BEGIN:VCALENDAR
VERSION:2.0
PRODID:-//Decker Communications - ECPv6.15.17.1//NONSGML v1.0//EN
CALSCALE:GREGORIAN
METHOD:PUBLISH
X-WR-CALNAME:Decker Communications
X-ORIGINAL-URL:https://decker.com
X-WR-CALDESC:Events for Decker Communications
REFRESH-INTERVAL;VALUE=DURATION:PT1H
X-Robots-Tag:noindex
X-PUBLISHED-TTL:PT1H
BEGIN:VTIMEZONE
TZID:America/Los_Angeles
BEGIN:DAYLIGHT
TZOFFSETFROM:-0800
TZOFFSETTO:-0700
TZNAME:PDT
DTSTART:20210314T100000
END:DAYLIGHT
BEGIN:STANDARD
TZOFFSETFROM:-0700
TZOFFSETTO:-0800
TZNAME:PST
DTSTART:20211107T090000
END:STANDARD
BEGIN:DAYLIGHT
TZOFFSETFROM:-0800
TZOFFSETTO:-0700
TZNAME:PDT
DTSTART:20220313T100000
END:DAYLIGHT
BEGIN:STANDARD
TZOFFSETFROM:-0700
TZOFFSETTO:-0800
TZNAME:PST
DTSTART:20221106T090000
END:STANDARD
BEGIN:DAYLIGHT
TZOFFSETFROM:-0800
TZOFFSETTO:-0700
TZNAME:PDT
DTSTART:20230312T100000
END:DAYLIGHT
BEGIN:STANDARD
TZOFFSETFROM:-0700
TZOFFSETTO:-0800
TZNAME:PST
DTSTART:20231105T090000
END:STANDARD
BEGIN:DAYLIGHT
TZOFFSETFROM:-0800
TZOFFSETTO:-0700
TZNAME:PDT
DTSTART:20240310T100000
END:DAYLIGHT
BEGIN:STANDARD
TZOFFSETFROM:-0700
TZOFFSETTO:-0800
TZNAME:PST
DTSTART:20241103T090000
END:STANDARD
BEGIN:DAYLIGHT
TZOFFSETFROM:-0800
TZOFFSETTO:-0700
TZNAME:PDT
DTSTART:20250309T100000
END:DAYLIGHT
BEGIN:STANDARD
TZOFFSETFROM:-0700
TZOFFSETTO:-0800
TZNAME:PST
DTSTART:20251102T090000
END:STANDARD
BEGIN:DAYLIGHT
TZOFFSETFROM:-0800
TZOFFSETTO:-0700
TZNAME:PDT
DTSTART:20260308T100000
END:DAYLIGHT
BEGIN:STANDARD
TZOFFSETFROM:-0700
TZOFFSETTO:-0800
TZNAME:PST
DTSTART:20261101T090000
END:STANDARD
BEGIN:DAYLIGHT
TZOFFSETFROM:-0800
TZOFFSETTO:-0700
TZNAME:PDT
DTSTART:20270314T100000
END:DAYLIGHT
BEGIN:STANDARD
TZOFFSETFROM:-0700
TZOFFSETTO:-0800
TZNAME:PST
DTSTART:20271107T090000
END:STANDARD
END:VTIMEZONE
BEGIN:VTIMEZONE
TZID:America/New_York
BEGIN:DAYLIGHT
TZOFFSETFROM:-0500
TZOFFSETTO:-0400
TZNAME:EDT
DTSTART:20220313T070000
END:DAYLIGHT
BEGIN:STANDARD
TZOFFSETFROM:-0400
TZOFFSETTO:-0500
TZNAME:EST
DTSTART:20221106T060000
END:STANDARD
BEGIN:DAYLIGHT
TZOFFSETFROM:-0500
TZOFFSETTO:-0400
TZNAME:EDT
DTSTART:20230312T070000
END:DAYLIGHT
BEGIN:STANDARD
TZOFFSETFROM:-0400
TZOFFSETTO:-0500
TZNAME:EST
DTSTART:20231105T060000
END:STANDARD
BEGIN:DAYLIGHT
TZOFFSETFROM:-0500
TZOFFSETTO:-0400
TZNAME:EDT
DTSTART:20240310T070000
END:DAYLIGHT
BEGIN:STANDARD
TZOFFSETFROM:-0400
TZOFFSETTO:-0500
TZNAME:EST
DTSTART:20241103T060000
END:STANDARD
END:VTIMEZONE
BEGIN:VTIMEZONE
TZID:America/New_York
BEGIN:DAYLIGHT
TZOFFSETFROM:-0500
TZOFFSETTO:-0400
TZNAME:EDT
DTSTART:20210314T070000
END:DAYLIGHT
BEGIN:STANDARD
TZOFFSETFROM:-0400
TZOFFSETTO:-0500
TZNAME:EST
DTSTART:20211107T060000
END:STANDARD
BEGIN:DAYLIGHT
TZOFFSETFROM:-0500
TZOFFSETTO:-0400
TZNAME:EDT
DTSTART:20220313T070000
END:DAYLIGHT
BEGIN:STANDARD
TZOFFSETFROM:-0400
TZOFFSETTO:-0500
TZNAME:EST
DTSTART:20221106T060000
END:STANDARD
BEGIN:DAYLIGHT
TZOFFSETFROM:-0500
TZOFFSETTO:-0400
TZNAME:EDT
DTSTART:20230312T070000
END:DAYLIGHT
BEGIN:STANDARD
TZOFFSETFROM:-0400
TZOFFSETTO:-0500
TZNAME:EST
DTSTART:20231105T060000
END:STANDARD
END:VTIMEZONE
BEGIN:VEVENT
DTSTART;TZID=America/Los_Angeles:20260327T090000
DTEND;TZID=America/Los_Angeles:20260327T170000
DTSTAMP:20260419T084758
CREATED:20251106T224209Z
LAST-MODIFIED:20251106T224209Z
UID:10000247-1774602000-1774630800@decker.com
SUMMARY:Communicate to Influence 1-day - New York City
DESCRIPTION:This is a 1-day Communicate to Influence program.  It’s a packed agenda to make the most efficient use of your time. \nAfter taking this gold-standard course\, over 100\,000 people recommended it to a friend or colleague. Communicate to Influence is an intensive\, high-impact program that applies Decker’s methodology to help you boost the effectiveness of both what you say and how you say it. \nLocation: 730 Third Ave\, New York\, NY 10017 | Timing: 9am-5 pm EST | Limited to 8 participants \nCancellation Policy
URL:https://decker.com/event/communicate-to-influence-1-day-new-york-city-03-27-26/
LOCATION:New York City\, 730 Third Ave - 2nd Floor\, Training Room 2C\, New York\, NY\, 10017\, United States
CATEGORIES:Communicate to Influence
END:VEVENT
BEGIN:VEVENT
DTSTART;TZID=America/Los_Angeles:20251017T090000
DTEND;TZID=America/Los_Angeles:20251017T170000
DTSTAMP:20260419T084758
CREATED:20250715T222701Z
LAST-MODIFIED:20250715T222701Z
UID:10000231-1760691600-1760720400@decker.com
SUMMARY:Communicate to Influence 1-day - New York City
DESCRIPTION:This is a 1-day Communicate to Influence program.  It’s a packed agenda to make the most efficient use of your time. \nAfter taking this gold-standard course\, over 100\,000 people recommended it to a friend or colleague. Communicate to Influence is an intensive\, high-impact program that applies Decker’s methodology to help you boost the effectiveness of both what you say and how you say it. \nLocation: 730 Third Ave\, New York\, NY 10017 | Timing: 9am-5 pm EST | Limited to 8 participants \nCancellation Policy
URL:https://decker.com/event/communicate-to-influence-1-day-new-york-city-10-17-25/
LOCATION:New York City\, 730 Third Ave - 2nd Floor\, Training Room 2C\, New York\, NY\, 10017\, United States
CATEGORIES:Communicate to Influence
END:VEVENT
BEGIN:VEVENT
DTSTART;TZID=America/Los_Angeles:20250724T090000
DTEND;TZID=America/Los_Angeles:20250724T170000
DTSTAMP:20260419T084758
CREATED:20250326T212852Z
LAST-MODIFIED:20250605T163455Z
UID:10000222-1753347600-1753376400@decker.com
SUMMARY:Communicate to Influence 1-day - New York City
DESCRIPTION:This is a 1-day Communicate to Influence program.  It’s a packed agenda to make the most efficient use of your time. \nAfter taking this gold-standard course\, over 100\,000 people recommended it to a friend or colleague. Communicate to Influence is an intensive\, high-impact program that applies Decker’s methodology to help you boost the effectiveness of both what you say and how you say it. \nLocation: 730 Third Ave\, New York\, NY 10017| Timing: 9am-5 pm EST | Limited to 8 participants \nCancellation Policy
URL:https://decker.com/event/communicate-to-influence-1-day-new-york-city-07-24-25/
LOCATION:New York City\, 730 Third Ave - 2nd Floor\, Training Room 2C\, New York\, NY\, 10017\, United States
CATEGORIES:Communicate to Influence
END:VEVENT
BEGIN:VEVENT
DTSTART;TZID=America/Los_Angeles:20250606T090000
DTEND;TZID=America/Los_Angeles:20250606T170000
DTSTAMP:20260419T084758
CREATED:20241101T192633Z
LAST-MODIFIED:20250516T175001Z
UID:10000217-1749200400-1749229200@decker.com
SUMMARY:Communicate to Influence 1-day - New York City
DESCRIPTION:This is a 1-day Communicate to Influence program.  It’s a packed agenda to make the most efficient use of your time. \nAfter taking this gold-standard course\, over 100\,000 people recommended it to a friend or colleague. Communicate to Influence is an intensive\, high-impact program that applies Decker’s methodology to help you boost the effectiveness of both what you say and how you say it. \nLocation: New York City near Grand Central Station | Timing: 9am-5 pm EST | Limited to 8 participants \nCancellation Policy
URL:https://decker.com/event/communicate-to-influence-1-day-new-york-city-06-06-25/
LOCATION:New York City\, 730 Third Ave - 2nd Floor\, Training Room 2C\, New York\, NY\, 10017\, United States
CATEGORIES:Communicate to Influence
END:VEVENT
BEGIN:VEVENT
DTSTART;TZID=America/Los_Angeles:20250509T090000
DTEND;TZID=America/Los_Angeles:20250509T170000
DTSTAMP:20260419T084758
CREATED:20241101T192133Z
LAST-MODIFIED:20250227T205653Z
UID:10000215-1746781200-1746810000@decker.com
SUMMARY:Communicate to Influence 1-day - New York City
DESCRIPTION:This is a 1-day Communicate to Influence program.  It’s a packed agenda to make the most efficient use of your time. \nAfter taking this gold-standard course\, over 100\,000 people recommended it to a friend or colleague. Communicate to Influence is an intensive\, high-impact program that applies Decker’s methodology to help you boost the effectiveness of both what you say and how you say it. \nLocation: New York City near Grand Central Station | Timing: 9am-5 pm EST | Limited to 8 participants \nCancellation Policy
URL:https://decker.com/event/communicate-to-influence-1-day-new-york-city-05-09-25/
LOCATION:New York City\, 730 Third Ave - 2nd Floor\, Training Room 2C\, New York\, NY\, 10017\, United States
CATEGORIES:Communicate to Influence
END:VEVENT
BEGIN:VEVENT
DTSTART;TZID=America/Los_Angeles:20250425T090000
DTEND;TZID=America/Los_Angeles:20250425T170000
DTSTAMP:20260419T084758
CREATED:20241101T191602Z
LAST-MODIFIED:20250227T205454Z
UID:10000213-1745571600-1745600400@decker.com
SUMMARY:Communicate to Influence 1-day - New York City
DESCRIPTION:This is a 1-day Communicate to Influence program.  It’s a packed agenda to make the most efficient use of your time. \nAfter taking this gold-standard course\, over 100\,000 people recommended it to a friend or colleague. Communicate to Influence is an intensive\, high-impact program that applies Decker’s methodology to help you boost the effectiveness of both what you say and how you say it. \nLocation: New York City near Grand Central Station | Timing: 9am-5 pm EST | Limited to 8 participants \nCancellation Policy
URL:https://decker.com/event/communicate-to-influence-1-day-new-york-city-04-25-25/
LOCATION:New York City\, 730 Third Ave - 2nd Floor\, Training Room 2C\, New York\, NY\, 10017\, United States
CATEGORIES:Communicate to Influence
END:VEVENT
BEGIN:VEVENT
DTSTART;TZID=America/Los_Angeles:20241108T090000
DTEND;TZID=America/Los_Angeles:20241108T170000
DTSTAMP:20260419T084758
CREATED:20240814T224532Z
LAST-MODIFIED:20240814T224532Z
UID:10000195-1731056400-1731085200@decker.com
SUMMARY:Communicate to Influence 1-day - New York City
DESCRIPTION:This is a 1-day Communicate to Influence program.  It’s a packed agenda to make the most efficient use of your time. \nAfter taking this gold-standard course\, over 100\,000 people recommended it to a friend or colleague. Communicate to Influence is an intensive\, high-impact program that applies Decker’s methodology to help you boost the effectiveness of both what you say and how you say it. \nLocation: New York City near Grand Central Station | Timing: 9am-5 pm EST | Limited to 8 participants
URL:https://decker.com/event/communicate-to-influence-11-8-24/
LOCATION:New York City\, 730 Third Ave - 2nd Floor\, Training Room 2C\, New York\, NY\, 10017\, United States
CATEGORIES:Communicate to Influence
END:VEVENT
BEGIN:VEVENT
DTSTART;TZID=America/Los_Angeles:20241018T090000
DTEND;TZID=America/Los_Angeles:20241018T170000
DTSTAMP:20260419T084758
CREATED:20240730T192737Z
LAST-MODIFIED:20240731T133738Z
UID:10000193-1729242000-1729270800@decker.com
SUMMARY:Communicate to Influence 1-day - New York City
DESCRIPTION:This is a 1-day Communicate to Influence program.  It’s a packed agenda to make the most efficient use of your time. \nAfter taking this gold-standard course\, over 100\,000 people recommended it to a friend or colleague. Communicate to Influence is an intensive\, high-impact program that applies Decker’s methodology to help you boost the effectiveness of both what you say and how you say it. \nLocation: New York City near Grand Central Station | Timing: 9am-5 pm EST | Limited to 8 participants
URL:https://decker.com/event/communicate-to-influence-1-day-new-york-city-10-18-24/
LOCATION:New York City\, 730 Third Ave - 2nd Floor\, Training Room 2C\, New York\, NY\, 10017\, United States
CATEGORIES:Communicate to Influence
END:VEVENT
BEGIN:VEVENT
DTSTART;TZID=America/Los_Angeles:20240912T090000
DTEND;TZID=America/Los_Angeles:20240912T170000
DTSTAMP:20260419T084758
CREATED:20240510T162603Z
LAST-MODIFIED:20240604T152852Z
UID:10000188-1726131600-1726160400@decker.com
SUMMARY:Communicate to Influence 1-day - New York City
DESCRIPTION:This is a 1-day Communicate to Influence program.  It’s a packed agenda to make the most efficient use of your time. \nAfter taking this gold-standard course\, over 100\,000 people recommended it to a friend or colleague. Communicate to Influence is an intensive\, high-impact program that applies Decker’s methodology to help you boost the effectiveness of both what you say and how you say it. \nLocation: New York City near Grand Central Station | Timing: 9am-5 pm EST | Limited to 8 participants
URL:https://decker.com/event/communicate-to-influence-1-day-new-york-city-9-12-24/
LOCATION:New York City\, 730 Third Ave - 2nd Floor\, Training Room 2C\, New York\, NY\, 10017\, United States
CATEGORIES:Communicate to Influence
END:VEVENT
BEGIN:VEVENT
DTSTART;TZID=America/Los_Angeles:20240725T090000
DTEND;TZID=America/Los_Angeles:20240725T170000
DTSTAMP:20260419T084758
CREATED:20240510T133302Z
LAST-MODIFIED:20240722T154002Z
UID:10000183-1721898000-1721926800@decker.com
SUMMARY:Communicate to Influence 1-day - New York City
DESCRIPTION:This is a 1-day Communicate to Influence program.  It’s a packed agenda to make the most efficient use of your time. \nAfter taking this gold-standard course\, over 100\,000 people recommended it to a friend or colleague. Communicate to Influence is an intensive\, high-impact program that applies Decker’s methodology to help you boost the effectiveness of both what you say and how you say it. \nLocation: New York City near Grand Central Station | Timing: 9am-5 pm EST | Limited to 8 participants
URL:https://decker.com/event/communicate-to-influence-1-day-new-york-city-7-25-24/
LOCATION:New York City\, 730 Third Ave - 2nd Floor\, Training Room 2C\, New York\, NY\, 10017\, United States
CATEGORIES:Communicate to Influence
END:VEVENT
BEGIN:VEVENT
DTSTART;TZID=America/Los_Angeles:20240614T090000
DTEND;TZID=America/Los_Angeles:20240614T170000
DTSTAMP:20260419T084758
CREATED:20240212T174615Z
LAST-MODIFIED:20240613T175015Z
UID:10000180-1718355600-1718384400@decker.com
SUMMARY:Communicate to Influence 1-day - New York City
DESCRIPTION:This is a 1-day Communicate to Influence program.  It’s a packed agenda to make the most efficient use of your time. \nAfter taking this gold-standard course\, over 100\,000 people recommended it to a friend or colleague. Communicate to Influence is an intensive\, high-impact program that applies Decker’s methodology to help you boost the effectiveness of both what you say and how you say it. \nLocation: New York City | Timing: 9am-5 pm EST | Limited to 8 participants
URL:https://decker.com/event/communicate-to-influence-1-day-new-york-city-6-14-24/
LOCATION:New York City\, 730 Third Ave - 2nd Floor\, Training Room 2C\, New York\, NY\, 10017\, United States
CATEGORIES:Communicate to Influence
END:VEVENT
BEGIN:VEVENT
DTSTART;TZID=America/Los_Angeles:20240426T090000
DTEND;TZID=America/Los_Angeles:20240426T170000
DTSTAMP:20260419T084758
CREATED:20240212T170225Z
LAST-MODIFIED:20240320T162455Z
UID:10000174-1714122000-1714150800@decker.com
SUMMARY:Communicate to Influence 1-day - New York City
DESCRIPTION:This is a 1-day Communicate to Influence program.  It’s a packed agenda to make the most efficient use of your time. \nAfter taking this gold-standard course\, over 100\,000 people recommended it to a friend or colleague. Communicate to Influence is an intensive\, high-impact program that applies Decker’s methodology to help you boost the effectiveness of both what you say and how you say it. \nLocation: New York City | Timing: 9am-5 pm EST | Limited to 8 participants
URL:https://decker.com/event/communicate-to-influence-1-day-new-york-city-4-26-24/
LOCATION:New York City\, 730 Third Ave - 2nd Floor\, Training Room 2C\, New York\, NY\, 10017\, United States
CATEGORIES:Communicate to Influence
END:VEVENT
BEGIN:VEVENT
DTSTART;TZID=America/Los_Angeles:20240322T090000
DTEND;TZID=America/Los_Angeles:20240322T170000
DTSTAMP:20260419T084758
CREATED:20231023T191908Z
LAST-MODIFIED:20240320T180637Z
UID:10000170-1711098000-1711126800@decker.com
SUMMARY:Communicate to Influence 1-day - New York City
DESCRIPTION:This is a 1-day Communicate to Influence program.  It’s a packed agenda to make the most efficient use of your time. \nAfter taking this gold-standard course\, over 100\,000 people recommended it to a friend or colleague. Communicate to Influence is an intensive\, high-impact program that applies Decker’s methodology to help you boost the effectiveness of both what you say and how you say it. \nLocation: New York City | Timing: 9am-5 pm EST | Limited to 8 participants
URL:https://decker.com/event/communicate-to-influence-1-day-new-york-city-3-22-24/
LOCATION:New York City\, 730 Third Ave - 2nd Floor\, Training Room 2C\, New York\, NY\, 10017\, United States
CATEGORIES:Communicate to Influence
END:VEVENT
BEGIN:VEVENT
DTSTART;TZID=America/Los_Angeles:20231027T090000
DTEND;TZID=America/Los_Angeles:20231027T170000
DTSTAMP:20260419T084758
CREATED:20230628T181029Z
LAST-MODIFIED:20231004T162759Z
UID:10000090-1698397200-1698426000@decker.com
SUMMARY:Communicate to Influence 1-day - New York City
DESCRIPTION:Location – New York City\nTiming: 9AM-5 pm EST \nLimited to the first 8 Participants. \nThis is a 1-day Communicate to Influence program.  It’s a packed agenda to make the most efficient use of your time. \nAfter taking this gold-standard course\, over 100\,000 people recommended it to a friend or colleague. Communicate to Influence is an intensive\, high-impact program that applies Decker’s methodology to help you boost the effectiveness of both what you say and how you say it.
URL:https://decker.com/event/communicate-to-influence-1-day-new-york-city-10-27-23/
LOCATION:New York City\, 730 Third Ave - 2nd Floor\, Training Room 2C\, New York\, NY\, 10017\, United States
CATEGORIES:Communicate to Influence
END:VEVENT
BEGIN:VEVENT
DTSTART;TZID=America/Los_Angeles:20230818T090000
DTEND;TZID=America/Los_Angeles:20230818T170000
DTSTAMP:20260419T084758
CREATED:20230321T184546Z
LAST-MODIFIED:20230802T180544Z
UID:10000150-1692349200-1692378000@decker.com
SUMMARY:Communicate to Influence 1-day - New York City
DESCRIPTION:Location – New York City\nTiming: 9AM-5 pm EST \nLimited to 12 Participants. \nThis is our signature 2-day Communicate to Influence program. \nAfter taking this gold-standard course\, over 100\,000 people recommended it to a friend or colleague. Communicate to Influence is an intensive\, high-impact program that applies Decker’s methodology to help you boost the effectiveness of both what you say and how you say it.
URL:https://decker.com/event/communicate-to-influence-1-day-new-york-city-8-18-23/
LOCATION:New York City\, 730 Third Ave - 2nd Floor\, Training Room 2C\, New York\, NY\, 10017\, United States
CATEGORIES:Communicate to Influence
END:VEVENT
BEGIN:VEVENT
DTSTART;TZID=America/Los_Angeles:20230428T090000
DTEND;TZID=America/Los_Angeles:20230428T170000
DTSTAMP:20260419T084758
CREATED:20230303T201446Z
LAST-MODIFIED:20230424T164112Z
UID:10000088-1682672400-1682701200@decker.com
SUMMARY:Communicate to Influence 1-day - New York City
DESCRIPTION:Location – New York City\nTiming: 9AM-5 pm EST \nLimited to the first 8 Participants. \nThis is a 1-day Communicate to Influence program.  It’s a packed agenda to make the most efficient use of your time. \nAfter taking this gold-standard course\, over 100\,000 people recommended it to a friend or colleague. Communicate to Influence is an intensive\, high-impact program that applies Decker’s methodology to help you boost the effectiveness of both what you say and how you say it.
URL:https://decker.com/event/communicate-to-influence-nyc-4-28-23/
LOCATION:New York City\, 730 Third Ave - 2nd Floor\, Training Room 2C\, New York\, NY\, 10017\, United States
CATEGORIES:Communicate to Influence
END:VEVENT
BEGIN:VEVENT
DTSTART;TZID=America/New_York:20230202T080000
DTEND;TZID=America/New_York:20230203T170000
DTSTAMP:20260419T084758
CREATED:20221129T204151Z
LAST-MODIFIED:20221129T204518Z
UID:10000087-1675324800-1675443600@decker.com
SUMMARY:Communicate to Influence - New York
DESCRIPTION:Location – New York \nTiming: 9AM-5PM EST on Day 1\, and 9AM-5PM on Day 2\nLimited to the first 10 Participants. \nAfter taking this gold-standard course\, over 100\,000 people recommended it to a friend or colleague. Communicate to Influence is an intensive\, high-impact program that applies Decker’s methodology to help you boost the effectiveness of both what you say and how you say it.
URL:https://decker.com/event/communicate-to-influence-new-york-2-2/
LOCATION:New York City\, 730 Third Ave - 2nd Floor\, Training Room 2C\, New York\, NY\, 10017\, United States
CATEGORIES:Communicate to Influence
END:VEVENT
BEGIN:VEVENT
DTSTART;TZID=America/Los_Angeles:20221027T090000
DTEND;TZID=America/Los_Angeles:20221028T170000
DTSTAMP:20260419T084758
CREATED:20220804T131832Z
LAST-MODIFIED:20220804T132120Z
UID:10000145-1666861200-1666976400@decker.com
SUMMARY:Communicate to Influence - New York City
DESCRIPTION:Location – New York City \nTiming: 9AM-5PM EST on Day 1\, and 9AM-5PM EST on Day 2\nLimited to the first 10 Participants. \nAfter taking this gold-standard course\, over 100\,000 people recommended it to a friend or colleague. Communicate to Influence is an intensive\, high-impact program that applies Decker’s methodology to help you boost the effectiveness of both what you say and how you say it.
URL:https://decker.com/event/communicate-to-influence-new-york-city/
LOCATION:New York City\, 730 Third Ave - 2nd Floor\, Training Room 2C\, New York\, NY\, 10017\, United States
CATEGORIES:Communicate to Influence
END:VEVENT
BEGIN:VEVENT
DTSTART;TZID=America/Los_Angeles:20220829T090000
DTEND;TZID=America/Los_Angeles:20220830T170000
DTSTAMP:20260419T084758
CREATED:20220509T184357Z
LAST-MODIFIED:20220628T182045Z
UID:10000133-1661763600-1661878800@decker.com
SUMMARY:Communicate to Influence - New York City
DESCRIPTION:Location – New York City \nTiming: 9AM-5PM EST on Day 1\, and 9AM-5PM EST on Day 2\nLimited to the first 10 Participants. \nAfter taking this gold-standard course\, over 100\,000 people recommended it to a friend or colleague. Communicate to Influence is an intensive\, high-impact program that applies Decker’s methodology to help you boost the effectiveness of both what you say and how you say it.
URL:https://decker.com/event/communicate-to-influence-nyc-8_29_22/
LOCATION:New York City\, 730 Third Ave - 2nd Floor\, Training Room 2C\, New York\, NY\, 10017\, United States
CATEGORIES:Communicate to Influence,Virtual
END:VEVENT
BEGIN:VEVENT
DTSTART;TZID=America/Los_Angeles:20220815T080000
DTEND;TZID=America/Los_Angeles:20220816T170000
DTSTAMP:20260419T084758
CREATED:20220509T190459Z
LAST-MODIFIED:20220616T135156Z
UID:10000129-1660550400-1660669200@decker.com
SUMMARY:Communicate to Influence - New York
DESCRIPTION:Location – New York City \nTiming: 9AM-5PM EST on Day 1\, and 9AM-5PM on Day 2\nLimited to the first 10 Participants. \nAfter taking this gold-standard course\, over 100\,000 people recommended it to a friend or colleague. Communicate to Influence is an intensive\, high-impact program that applies Decker’s methodology to help you boost the effectiveness of both what you say and how you say it.
URL:https://decker.com/event/communicate-to-influence-new-york-8_15_22/
LOCATION:New York City\, 730 Third Ave - 2nd Floor\, Training Room 2C\, New York\, NY\, 10017\, United States
CATEGORIES:Communicate to Influence
END:VEVENT
BEGIN:VEVENT
DTSTART;TZID=America/New_York:20220519T080000
DTEND;TZID=America/New_York:20220520T170000
DTSTAMP:20260419T084758
CREATED:20220209T175930Z
LAST-MODIFIED:20220509T172301Z
UID:10000119-1652947200-1653066000@decker.com
SUMMARY:Communicate to Influence - New York
DESCRIPTION:Location – New York City \nTiming: 9AM-5PM EST on Day 1\, and 9AM-5PM on Day 2\nLimited to the first 10 Participants. \nAfter taking this gold-standard course\, over 100\,000 people recommended it to a friend or colleague. Communicate to Influence is an intensive\, high-impact program that applies Decker’s methodology to help you boost the effectiveness of both what you say and how you say it.
URL:https://decker.com/event/communicate-to-influence-nyc/
LOCATION:New York City\, 730 Third Ave - 2nd Floor\, Training Room 2C\, New York\, NY\, 10017\, United States
CATEGORIES:Communicate to Influence
END:VEVENT
END:VCALENDAR